BEGIN:VCALENDAR
VERSION:2.0
PRODID:-//Developmental Biology//NONSGML Events//EN
CALSCALE:GREGORIAN
X-ORIGINAL-URL:https://developmentalbiology.wustl.edu/events/
X-WR-CALDESC:Developmental Biology - Events
BEGIN:VEVENT
UID:20220727T1733Z-1658943237.953-EO-5653-1@172.23.128.19
STATUS:CONFIRMED
DTSTAMP:20260422T141934Z
CREATED:20220726T192447Z
LAST-MODIFIED:20220726T192447Z
DTSTART;TZID=America/Chicago:20221107T120000
DTEND;TZID=America/Chicago:20221107T130000
SUMMARY: Zu-Hang Sheng\, Ph.D.
DESCRIPTION: Senior Investigator Synaptic Function Section NINDS 12:00 pm\,
  Needleman Library and Zoom Please email kriebold@wustl.edu for the zoom li
 nk
X-ALT-DESC;FMTTYPE=text/html: <h2 class="pi-title">Senior Investigator</h2>
 <p class="pi-lab">Synaptic Function Section</p><p class="pi-ic">NINDS</p><p
 >12:00 pm\, Needleman Library and Zoom</p><p>Please email kriebold@wustl.ed
 u for the zoom link</p>
CATEGORIES:All Events,Department of Developmental Biology Seminar Series
ORGANIZER;CN="Kati":MAILTO:kriebold@wustl.edu
URL;VALUE=URI:https://developmentalbiology.wustl.edu/events/event/zu-hang-s
 heng-ph-d/
END:VEVENT
BEGIN:VTIMEZONE
TZID:America/Chicago
BEGIN:STANDARD
TZOFFSETFROM:-0500
TZOFFSETTO:-0600
DTSTART:20221106T070000
TZNAME:CST
END:STANDARD
END:VTIMEZONE
END:VCALENDAR
