BEGIN:VCALENDAR
VERSION:2.0
PRODID:-//Developmental Biology//NONSGML Events//EN
CALSCALE:GREGORIAN
X-ORIGINAL-URL:https://developmentalbiology.wustl.edu/events/
X-WR-CALDESC:Developmental Biology - Events
BEGIN:VEVENT
UID:20240924T1616Z-1727194601.2767-EO-8029-1@10.24.106.144
STATUS:CONFIRMED
DTSTAMP:20260422T163129Z
CREATED:20240924T152216Z
LAST-MODIFIED:20250708T181610Z
DTSTART;TZID=America/Chicago:20251002T160000
DTEND;TZID=America/Chicago:20251002T170000
SUMMARY: 43rd Annual Oliver H. Lowry Lecture: Victor Ambros\, PhD
DESCRIPTION: Professor\, Program in Molecular Medicine and Silverman Profes
 sor of Natural Sciences UMass Chan Medical School “Post-transcriptional gen
 e regulation in animal development”   Eric P. Newman Education Center Audit
 orium October 2nd\, 4-5pm
X-ALT-DESC;FMTTYPE=text/html: <p>Professor\, Program in Molecular Medicine 
 and Silverman Professor of Natural Sciences<br />UMass Chan Medical School<
 /p><p>“Post-transcriptional gene regulation in animal development”</p><p> <
 /p><p>Eric P. Newman Education Center Auditorium</p><p>October 2nd\, 4-5pm<
 /p>
CATEGORIES:All Events
LOCATION:Eric P. Newman Education Center
GEO:38.636900;-90.262419
ORGANIZER;CN="Brittni":MAILTO:b.martin@wustl.edu
URL;VALUE=URI:https://developmentalbiology.wustl.edu/events/event/victor-r-
 ambros-phd/
END:VEVENT
BEGIN:VTIMEZONE
TZID:America/Chicago
BEGIN:DAYLIGHT
TZOFFSETFROM:-0600
TZOFFSETTO:-0500
DTSTART:20250309T080000
TZNAME:CDT
END:DAYLIGHT
END:VTIMEZONE
END:VCALENDAR
