BEGIN:VCALENDAR
VERSION:2.0
PRODID:-//Developmental Biology//NONSGML Events//EN
CALSCALE:GREGORIAN
X-ORIGINAL-URL:https://developmentalbiology.wustl.edu/events/
X-WR-CALDESC:Developmental Biology - Events
BEGIN:VEVENT
UID:20220511T1505Z-1652281555.5222-EO-5420-1@172.23.128.19
STATUS:CONFIRMED
DTSTAMP:20260422T163133Z
CREATED:20220510T155242Z
LAST-MODIFIED:20220510T155242Z
DTSTART;TZID=America/Chicago:20220516T120000
DTEND;TZID=America/Chicago:20220516T130000
SUMMARY: Valeria Cavalli\, PhD
DESCRIPTION: Robert E. and Louise F. Dunn Professor of Biomedical Research 
 Department of Neuroscience WashU School of Medicine “Satellite Glial Cells 
 in sensory nervous system health\, injury and disease” May 16\, 2022 12:00p
 m Connor Auditorium / Zoom Please email kriebold@wustl.edu for zoom link  
X-ALT-DESC;FMTTYPE=text/html: <p>Robert E. and Louise F. Dunn Professor of 
 Biomedical Research Department of Neuroscience<br />WashU School of Medicin
 e</p><p>“Satellite Glial Cells in sensory nervous system health\, injury an
 d disease”</p><p>May 16\, 2022<br />12:00pm<br />Connor Auditorium / Zoom</
 p><p>Please email kriebold@wustl.edu for zoom link</p><p> </p>
CATEGORIES:All Events,Department of Developmental Biology Seminar Series
ORGANIZER;CN="Kati":MAILTO:kriebold@wustl.edu
URL;VALUE=URI:https://developmentalbiology.wustl.edu/events/event/valeria-c
 avalli-phd/
END:VEVENT
BEGIN:VTIMEZONE
TZID:America/Chicago
BEGIN:DAYLIGHT
TZOFFSETFROM:-0600
TZOFFSETTO:-0500
DTSTART:20220313T080000
TZNAME:CDT
END:DAYLIGHT
END:VTIMEZONE
END:VCALENDAR
