BEGIN:VCALENDAR
VERSION:2.0
PRODID:-//Developmental Biology//NONSGML Events//EN
CALSCALE:GREGORIAN
X-ORIGINAL-URL:https://developmentalbiology.wustl.edu/events/
X-WR-CALDESC:Developmental Biology - Events
BEGIN:VEVENT
UID:20260224T2029Z-1771964961.7128-EO-8980-1@10.73.4.114
STATUS:CONFIRMED
DTSTAMP:20260416T121912Z
CREATED:20260224T191101Z
LAST-MODIFIED:20260224T192427Z
DTSTART;TZID=America/Chicago:20260427T120000
DTEND;TZID=America/Chicago:20260427T130000
SUMMARY: Tzu-Chiao Lu\, PhD
DESCRIPTION: Instructor Huffington Center on Aging Department of Molecular 
 and Human Genetics Baylor College of Medicine “Single-Cell Insights into Ag
 ing\, Age-related Disease\, and Pro-longevity”
X-ALT-DESC;FMTTYPE=text/html: <p>Instructor</p><p>Huffington Center on Agin
 g</p><p>Department of Molecular and Human Genetics</p><p>Baylor College of 
 Medicine</p><p><em>"Single-Cell Insights into Aging\, Age-related Disease\,
  and Pro-longevity"</em></p>
CATEGORIES:All Events,Department of Developmental Biology Seminar Series
LOCATION:Needleman Library
GEO:38.634410;-90.262773
ORGANIZER;CN="Amy Kupcho":MAILTO:a.kupcho@wustl.edu
URL;VALUE=URI:https://developmentalbiology.wustl.edu/events/event/tzu-chiao
 -lu-phd/
END:VEVENT
BEGIN:VTIMEZONE
TZID:America/Chicago
BEGIN:DAYLIGHT
TZOFFSETFROM:-0600
TZOFFSETTO:-0500
DTSTART:20260308T080000
TZNAME:CDT
END:DAYLIGHT
END:VTIMEZONE
END:VCALENDAR
