BEGIN:VCALENDAR
VERSION:2.0
PRODID:-//Developmental Biology//NONSGML Events//EN
CALSCALE:GREGORIAN
X-ORIGINAL-URL:https://developmentalbiology.wustl.edu/events/
X-WR-CALDESC:Developmental Biology - Events
BEGIN:VEVENT
UID:20210927T1924Z-1632770653.3423-EO-5029-1@172.23.128.19
STATUS:CONFIRMED
DTSTAMP:20260422T163134Z
CREATED:20210927T170408Z
LAST-MODIFIED:20210927T170408Z
DTSTART;TZID=America/Chicago:20211115T120000
DTEND;TZID=America/Chicago:20211115T130000
SUMMARY: Tony Tsai\, MD\, PhD
DESCRIPTION: Assistant Professor of Developmental Biology Washington Univer
 sity in St. Louis 12:00 pm\, Moor Auditorium Hybrid format. Please contact 
 kriebold@wustl.edu for zoom link
X-ALT-DESC;FMTTYPE=text/html: <p>Assistant Professor of Developmental Biolo
 gy</p><p>Washington University in St. Louis</p><p>12:00 pm\, Moor Auditoriu
 m</p><p>Hybrid format. Please contact kriebold@wustl.edu for zoom link</p>
CATEGORIES:All Events,Department of Developmental Biology Seminar Series
ORGANIZER;CN="Kati":MAILTO:kriebold@wustl.edu
URL;VALUE=URI:https://developmentalbiology.wustl.edu/events/event/tony-tsai
 -md-phd/
END:VEVENT
BEGIN:VTIMEZONE
TZID:America/Chicago
BEGIN:STANDARD
TZOFFSETFROM:-0500
TZOFFSETTO:-0600
DTSTART:20211107T070000
TZNAME:CST
END:STANDARD
END:VTIMEZONE
END:VCALENDAR
