BEGIN:VCALENDAR
VERSION:2.0
PRODID:-//Developmental Biology//NONSGML Events//EN
CALSCALE:GREGORIAN
X-ORIGINAL-URL:https://developmentalbiology.wustl.edu/events/
X-WR-CALDESC:Developmental Biology - Events
BEGIN:VEVENT
UID:20200921T2000Z-1600718458.2656-EO-3693-1@172.23.128.19
STATUS:CONFIRMED
DTSTAMP:20260416T121956Z
CREATED:20200903T184938Z
LAST-MODIFIED:20200903T184938Z
DTSTART;TZID=America/Chicago:20191030T120000
DTEND;TZID=America/Chicago:20191030T130000
SUMMARY: Thi Nguyen\, PhD
DESCRIPTION: Associate Dean for Graduate Career and Professional Developmen
 t âStrategic Goal Setting and Time Management Tipsâ
X-ALT-DESC;FMTTYPE=text/html: <p><strong>Associate Dean for Graduate Career
  and Professional Development </strong></p><p><strong>âStrategic Goal Set
 ting and Time Management Tipsâ </strong></p>
CATEGORIES:All Events
LOCATION:Needleman Library
GEO:38.634410;-90.262773
ORGANIZER;CN="Brian":MAILTO:bmarston@wustl.edu
URL;VALUE=URI:https://developmentalbiology.wustl.edu/events/event/thi-nguye
 n-phd/
END:VEVENT
BEGIN:VTIMEZONE
TZID:America/Chicago
BEGIN:DAYLIGHT
TZOFFSETFROM:-0600
TZOFFSETTO:-0500
DTSTART:20190310T080000
TZNAME:CDT
END:DAYLIGHT
END:VTIMEZONE
END:VCALENDAR
