BEGIN:VCALENDAR
VERSION:2.0
PRODID:-//Developmental Biology//NONSGML Events//EN
CALSCALE:GREGORIAN
X-ORIGINAL-URL:https://developmentalbiology.wustl.edu/events/
X-WR-CALDESC:Developmental Biology - Events
BEGIN:VEVENT
UID:20230125T0057Z-1674608270.2779-EO-6156-1@172.23.128.18
STATUS:CONFIRMED
DTSTAMP:20260416T121927Z
CREATED:20230124T214742Z
LAST-MODIFIED:20230223T163705Z
DTSTART;TZID=America/Chicago:20230308T120000
DTEND;TZID=America/Chicago:20230308T130000
SUMMARY: Kuo-Chan Weng\, PhD & Emma Danhash
DESCRIPTION: RAD + CRM Stem Cells and Organoids Work in Progress (WIP) Kuo-
 Chen Weng\, PhD Director\, hCTO Core “Use of human stem cells and organoids
  in biomedical research” Emma Danhash Graduate student\, Karch Lab “Evaluat
 ing the utility of transcription factor-mediated induction of human microgl
 ia for screening regulators of MS4A4A levels” Needleman Library and Zoom Pl
 ease email […]
X-ALT-DESC;FMTTYPE=text/html: <p><strong>RAD + CRM</strong></p><p>Stem Cell
 s and Organoids Work in Progress (WIP)</p><p>Kuo-Chen Weng\, PhD</p><p>Dire
 ctor\, hCTO Core</p><p><strong>"Use of human stem cells and organoids in bi
 omedical research"</strong></p><p>Emma Danhash</p><p>Graduate student\, Kar
 ch Lab</p><p><strong>"Evaluating the utility of transcription factor-mediat
 ed induction of human microglia for screening regulators of MS4A4A levels"<
 /strong></p><p>Needleman Library and Zoom</p><p><em>Please email stacey.hal
 brook@wustl.edu for the Zoom link</em></p>
CATEGORIES:All Events,Department of Developmental Biology Seminar Series,RAD Research Forum Series
ORGANIZER;CN="Stacey":MAILTO:stacey.halbrook@wustl.edu
URL;VALUE=URI:https://developmentalbiology.wustl.edu/events/event/tbd/
END:VEVENT
BEGIN:VTIMEZONE
TZID:America/Chicago
BEGIN:STANDARD
TZOFFSETFROM:-0500
TZOFFSETTO:-0600
DTSTART:20221106T070000
TZNAME:CST
END:STANDARD
END:VTIMEZONE
END:VCALENDAR
