BEGIN:VCALENDAR
VERSION:2.0
PRODID:-//Developmental Biology//NONSGML Events//EN
CALSCALE:GREGORIAN
X-ORIGINAL-URL:https://developmentalbiology.wustl.edu/events/
X-WR-CALDESC:Developmental Biology - Events
BEGIN:VEVENT
UID:20260224T2029Z-1771964961.6756-EO-8977-1@10.73.4.114
STATUS:CONFIRMED
DTSTAMP:20260422T163127Z
CREATED:20260224T184116Z
LAST-MODIFIED:20260304T222949Z
DTSTART;TZID=America/Chicago:20260326T120000
DTEND;TZID=America/Chicago:20260326T130000
SUMMARY: Varsha Rajshekar\, PhD
DESCRIPTION: Postdoctoral Scholar Department of Molecular and Cell Biology 
 University of California\, Berkeley “Building a Nucleus: How Condensates Sh
 ape Nuclear Architecture in Development”
X-ALT-DESC;FMTTYPE=text/html: <p>Postdoctoral Scholar</p><p>Department of M
 olecular and Cell Biology</p><p>University of California\, Berkeley</p><p><
 em>"Building a Nucleus: How Condensates Shape Nuclear Architecture in Devel
 opment"</em></p>
CATEGORIES:All Events,Department of Developmental Biology Seminar Series
LOCATION:Needleman Library
GEO:38.634410;-90.262773
ORGANIZER;CN="Amy Kupcho":MAILTO:a.kupcho@wustl.edu
URL;VALUE=URI:https://developmentalbiology.wustl.edu/events/event/srivarsha
 -rajshekar/
END:VEVENT
BEGIN:VTIMEZONE
TZID:America/Chicago
BEGIN:DAYLIGHT
TZOFFSETFROM:-0600
TZOFFSETTO:-0500
DTSTART:20260308T080000
TZNAME:CDT
END:DAYLIGHT
END:VTIMEZONE
END:VCALENDAR
