BEGIN:VCALENDAR
VERSION:2.0
PRODID:-//Developmental Biology//NONSGML Events//EN
CALSCALE:GREGORIAN
X-ORIGINAL-URL:https://developmentalbiology.wustl.edu/events/
X-WR-CALDESC:Developmental Biology - Events
BEGIN:VEVENT
UID:20200921T2000Z-1600718458.4911-EO-3642-1@172.23.128.19
STATUS:CONFIRMED
DTSTAMP:20260422T163140Z
CREATED:20200903T184937Z
LAST-MODIFIED:20200908T193325Z
DTSTART;TZID=America/Chicago:20201130T120000
DTEND;TZID=America/Chicago:20201130T130000
SUMMARY: Soo-Kyung Lee\, Ph.D.
DESCRIPTION: Soo-Kyung Lee\, Ph.D. Empire Innovation Professor Om P. Bahl E
 ndowed Professor Department of Biological Sciences College of Arts and Scie
 nces University at Buffalo\, The StateÂ University of New York 12:00 pm\, v
 ia zoom
X-ALT-DESC;FMTTYPE=text/html: <p>Soo-Kyung Lee\, Ph.D.</p><p>Empire Innovat
 ion Professor<br />Om P. Bahl Endowed Professor<br />Department of Biologic
 al Sciences<br />College of Arts and Sciences<br />University at Buffalo\, 
 The StateÂ University of New York</p><p>12:00 pm\, via zoom</p>
CATEGORIES:All Events,Department of Developmental Biology Seminar Series
LOCATION:Remote / Zoom
GEO:0.000000;0.000000
ORGANIZER;CN="Brian":MAILTO:bmarston@wustl.edu
URL;VALUE=URI:https://developmentalbiology.wustl.edu/events/event/soo-kyung
 -lee-ph-d/
END:VEVENT
BEGIN:VTIMEZONE
TZID:America/Chicago
BEGIN:STANDARD
TZOFFSETFROM:-0500
TZOFFSETTO:-0600
DTSTART:20201101T070000
TZNAME:CST
END:STANDARD
END:VTIMEZONE
END:VCALENDAR
