BEGIN:VCALENDAR
VERSION:2.0
PRODID:-//Developmental Biology//NONSGML Events//EN
CALSCALE:GREGORIAN
X-ORIGINAL-URL:https://developmentalbiology.wustl.edu/events/
X-WR-CALDESC:Developmental Biology - Events
BEGIN:VEVENT
UID:20210115T1106Z-1610708781.1753-EO-4435-1@172.23.128.18
STATUS:CONFIRMED
DTSTAMP:20260422T013451Z
CREATED:20210114T193425Z
LAST-MODIFIED:20210114T193425Z
DTSTART;TZID=America/Chicago:20210125T130000
DTEND;TZID=America/Chicago:20210125T140000
SUMMARY: Ralf J Sommer\, Ph.D.
DESCRIPTION: Max Planck Institute Post-doc invited speaker Please contact K
 ati Riebold kriebold@wustl.edu for zoom information
X-ALT-DESC;FMTTYPE=text/html: <h4 class="nova-e-text nova-e-text--size-xl n
 ova-e-text--family-sans-serif nova-e-text--spacing-none nova-e-text--color-
 grey-600 sci-con__header-title">Max Planck Institute</h4><p>Post-doc invite
 d speaker</p><p>Please contact Kati Riebold kriebold@wustl.edu for zoom inf
 ormation</p>
CATEGORIES:All Events,Department of Developmental Biology Seminar Series
ORGANIZER;CN="Kati":MAILTO:kriebold@wustl.edu
URL;VALUE=URI:https://developmentalbiology.wustl.edu/events/event/ralf-j-so
 mmer-ph-d/
END:VEVENT
BEGIN:VTIMEZONE
TZID:America/Chicago
BEGIN:STANDARD
TZOFFSETFROM:-0500
TZOFFSETTO:-0600
DTSTART:20201101T070000
TZNAME:CST
END:STANDARD
END:VTIMEZONE
END:VCALENDAR
