BEGIN:VCALENDAR
VERSION:2.0
PRODID:-//Developmental Biology//NONSGML Events//EN
CALSCALE:GREGORIAN
X-ORIGINAL-URL:https://developmentalbiology.wustl.edu/events/
X-WR-CALDESC:Developmental Biology - Events
BEGIN:VEVENT
UID:20251118T1937Z-1763494668.3554-EO-8797-1@10.73.4.114
STATUS:CONFIRMED
DTSTAMP:20260416T121915Z
CREATED:20251118T193552Z
LAST-MODIFIED:20251118T193552Z
DTSTART;TZID=America/Chicago:20251119T120000
DTEND;TZID=America/Chicago:20251119T130000
SUMMARY: RAD Journal Club/DevBio WIPs
DESCRIPTION: Link: https://wustl.box.com/s/zqsit4xa3eywkbr0kir1jj29jtj3hj2j
X-ALT-DESC;FMTTYPE=text/html: <p><b>Link</b>: <a id="anchor-99ca12ba-a4f8-5
 c2b-2a48-9dba66f93bdc" class="OWAAutoLink" title="Original URL:https://wust
 l.box.com/s/zqsit4xa3eywkbr0kir1jj29jtj3hj2jClick to follow link." href="ht
 tps://nam10.safelinks.protection.outlook.com/?url=https%3A%2F%2Fwustl.box.c
 om%2Fs%2Fzqsit4xa3eywkbr0kir1jj29jtj3hj2j&data=05%7C02%7Ca.kupcho%40wustl.e
 du%7Cab77fafcf8fb45b5f92808de26d65677%7C4ccca3b571cd4e6d974b4d9beb96c6d6%7C
 0%7C0%7C638990899175427782%7CUnknown%7CTWFpbGZsb3d8eyJFbXB0eU1hcGkiOnRydWUs
 IlYiOiIwLjAuMDAwMCIsIlAiOiJXaW4zMiIsIkFOIjoiTWFpbCIsIldUIjoyfQ%3D%3D%7C0%7C
 %7C%7C&sdata=UFYv51KDL1mqg4vD%2B6MCjVFQPLD9WrVBAJs4hRVnZ%2Fg%3D&reserved=0"
  data-outlook-id="668f6b5e-dd5d-4565-af23-00f7e65d2d59">https://wustl.box.c
 om/s/zqsit4xa3eywkbr0kir1jj29jtj3hj2j</a></p>
CATEGORIES:All Events,RAD Research Forum Series
LOCATION:Needleman Library
GEO:38.634410;-90.262773
ORGANIZER;CN="Amy Kupcho":MAILTO:a.kupcho@wustl.edu
URL;VALUE=URI:https://developmentalbiology.wustl.edu/events/event/rad-journ
 al-club-devbio-wips/
END:VEVENT
BEGIN:VTIMEZONE
TZID:America/Chicago
BEGIN:STANDARD
TZOFFSETFROM:-0500
TZOFFSETTO:-0600
DTSTART:20251102T070000
TZNAME:CST
END:STANDARD
END:VTIMEZONE
END:VCALENDAR
