BEGIN:VCALENDAR
VERSION:2.0
PRODID:-//Developmental Biology//NONSGML Events//EN
CALSCALE:GREGORIAN
X-ORIGINAL-URL:https://developmentalbiology.wustl.edu/events/
X-WR-CALDESC:Developmental Biology - Events
BEGIN:VEVENT
UID:20251118T2222Z-1763504538.0788-EO-8806-1@10.73.4.114
STATUS:CONFIRMED
DTSTAMP:20260422T163128Z
CREATED:20251118T200224Z
LAST-MODIFIED:20260128T182330Z
DTSTART;TZID=America/Chicago:20260218T120000
DTEND;TZID=America/Chicago:20260218T130000
SUMMARY: RAD Journal Club/DevBio WIPs
DESCRIPTION: RAD Journal Club Schedule
X-ALT-DESC;FMTTYPE=text/html: <p><a href="https://wustl.app.box.com/s/iki8o
 vrr3wwl4cpojsb4vxov30y03oxy">RAD Journal Club Schedule</a></p>
CATEGORIES:All Events,RAD Research Forum Series
LOCATION:Needleman Library
GEO:38.634410;-90.262773
ORGANIZER;CN="Amy Kupcho":MAILTO:a.kupcho@wustl.edu
URL;VALUE=URI:https://developmentalbiology.wustl.edu/events/event/rad-journ
 al-club-devbio-wips-7/
END:VEVENT
BEGIN:VTIMEZONE
TZID:America/Chicago
BEGIN:STANDARD
TZOFFSETFROM:-0500
TZOFFSETTO:-0600
DTSTART:20251102T070000
TZNAME:CST
END:STANDARD
END:VTIMEZONE
END:VCALENDAR
