BEGIN:VCALENDAR
VERSION:2.0
PRODID:-//Developmental Biology//NONSGML Events//EN
CALSCALE:GREGORIAN
X-ORIGINAL-URL:https://developmentalbiology.wustl.edu/events/
X-WR-CALDESC:Developmental Biology - Events
BEGIN:VEVENT
UID:20251118T2222Z-1763504538.1291-EO-8814-1@10.73.4.114
STATUS:CONFIRMED
DTSTAMP:20260416T090129Z
CREATED:20251118T201043Z
LAST-MODIFIED:20260128T181602Z
DTSTART;TZID=America/Chicago:20260415T120000
DTEND;TZID=America/Chicago:20260415T130000
SUMMARY: RAD Journal Club/DevBio WIPs
DESCRIPTION: RAD Journal Club Schedule
X-ALT-DESC;FMTTYPE=text/html: <p><a href="https://wustl.app.box.com/s/iki8o
 vrr3wwl4cpojsb4vxov30y03oxy">RAD Journal Club Schedule</a></p>
CATEGORIES:All Events,RAD Research Forum Series
LOCATION:Needleman Library
GEO:38.634410;-90.262773
ORGANIZER;CN="Amy Kupcho":MAILTO:a.kupcho@wustl.edu
URL;VALUE=URI:https://developmentalbiology.wustl.edu/events/event/rad-journ
 al-club-devbio-wips-13/
END:VEVENT
BEGIN:VTIMEZONE
TZID:America/Chicago
BEGIN:DAYLIGHT
TZOFFSETFROM:-0600
TZOFFSETTO:-0500
DTSTART:20260308T080000
TZNAME:CDT
END:DAYLIGHT
END:VTIMEZONE
END:VCALENDAR
