BEGIN:VCALENDAR
VERSION:2.0
PRODID:-//Developmental Biology//NONSGML Events//EN
CALSCALE:GREGORIAN
X-ORIGINAL-URL:https://developmentalbiology.wustl.edu/events/
X-WR-CALDESC:Developmental Biology - Events
BEGIN:VEVENT
UID:20210126T2243Z-1611701007.1583-EO-4459-1@172.23.128.18
STATUS:CONFIRMED
DTSTAMP:20260422T163149Z
CREATED:20210126T140610Z
LAST-MODIFIED:20210126T140610Z
DTSTART;TZID=America/Chicago:20210329T120000
DTEND;TZID=America/Chicago:20210329T130000
SUMMARY: Rachel Brewster\, Ph.D.
DESCRIPTION: Associate Professor Department of Biological Sciences Universi
 ty of Maryland\, Baltimore County Email kriebold@wustl.edu for zoom informa
 tion
X-ALT-DESC;FMTTYPE=text/html: <h4 class="title">Associate Professor</h4><di
 v class="department">Department of Biological Sciences</div><div>University
  of Maryland\, Baltimore County</div><div></div><div>Email <a href="mailto:
 kriebold@wustl.edu">kriebold@wustl.edu</a> for zoom information</div>
CATEGORIES:All Events,Department of Developmental Biology Seminar Series
LOCATION:Remote / Zoom
GEO:0.000000;0.000000
ORGANIZER;CN="Kati":MAILTO:kriebold@wustl.edu
URL;VALUE=URI:https://developmentalbiology.wustl.edu/events/event/rachel-br
 ewster-ph-d/
END:VEVENT
BEGIN:VTIMEZONE
TZID:America/Chicago
BEGIN:DAYLIGHT
TZOFFSETFROM:-0600
TZOFFSETTO:-0500
DTSTART:20210314T080000
TZNAME:CDT
END:DAYLIGHT
END:VTIMEZONE
END:VCALENDAR
