BEGIN:VCALENDAR
VERSION:2.0
PRODID:-//Developmental Biology//NONSGML Events//EN
CALSCALE:GREGORIAN
X-ORIGINAL-URL:https://developmentalbiology.wustl.edu/events/
X-WR-CALDESC:Developmental Biology - Events
BEGIN:VEVENT
UID:20210828T0026Z-1630110376.012-EO-4969-1@172.23.128.19
STATUS:CONFIRMED
DTSTAMP:20260416T121940Z
CREATED:20210827T183149Z
LAST-MODIFIED:20210827T183149Z
DTSTART;TZID=America/Chicago:20210929T120000
DTEND;TZID=America/Chicago:20210929T130000
SUMMARY: No Seminar
DESCRIPTION: No Seminar Today
X-ALT-DESC;FMTTYPE=text/html: <p>No Seminar Today</p>
ORGANIZER;CN="Kati":MAILTO:kriebold@wustl.edu
URL;VALUE=URI:https://developmentalbiology.wustl.edu/events/event/no-semina
 r-4/
END:VEVENT
BEGIN:VTIMEZONE
TZID:America/Chicago
BEGIN:DAYLIGHT
TZOFFSETFROM:-0600
TZOFFSETTO:-0500
DTSTART:20210314T080000
TZNAME:CDT
END:DAYLIGHT
END:VTIMEZONE
END:VCALENDAR
