BEGIN:VCALENDAR
VERSION:2.0
PRODID:-//Developmental Biology//NONSGML Events//EN
CALSCALE:GREGORIAN
X-ORIGINAL-URL:https://developmentalbiology.wustl.edu/events/
X-WR-CALDESC:Developmental Biology - Events
BEGIN:VEVENT
UID:20200921T2000Z-1600718458.3833-EO-3659-1@172.23.128.19
STATUS:CONFIRMED
DTSTAMP:20260416T121954Z
CREATED:20200903T184938Z
LAST-MODIFIED:20200903T184938Z
DTSTART;TZID=America/Chicago:20200323T000000
DTEND;TZID=America/Chicago:20200323T130000
SUMMARY: No Seminar
X-ALT-DESC;FMTTYPE=text/html: 
CATEGORIES:All Events
LOCATION:Needleman Library
GEO:38.634410;-90.262773
ORGANIZER;CN="Brian":MAILTO:bmarston@wustl.edu
URL;VALUE=URI:https://developmentalbiology.wustl.edu/events/event/no-semina
 r-2/
END:VEVENT
BEGIN:VTIMEZONE
TZID:America/Chicago
BEGIN:DAYLIGHT
TZOFFSETFROM:-0600
TZOFFSETTO:-0500
DTSTART:20200308T080000
TZNAME:CDT
END:DAYLIGHT
END:VTIMEZONE
END:VCALENDAR
