BEGIN:VCALENDAR
VERSION:2.0
PRODID:-//Developmental Biology//NONSGML Events//EN
CALSCALE:GREGORIAN
X-ORIGINAL-URL:https://developmentalbiology.wustl.edu/events/
X-WR-CALDESC:Developmental Biology - Events
BEGIN:VEVENT
UID:20260224T2029Z-1771964961.708-EO-8981-1@10.73.4.114
STATUS:CONFIRMED
DTSTAMP:20260416T090629Z
CREATED:20260224T191631Z
LAST-MODIFIED:20260312T183201Z
DTSTART;TZID=America/Chicago:20260423T120000
DTEND;TZID=America/Chicago:20260423T130000
SUMMARY: Natasha O’Brown\, PhD
DESCRIPTION: Assistant Professor Department of Cell Biology and Neuroscienc
 e Rutgers University “Using zebrafish to build and break the blood-brain ba
 rrier”
X-ALT-DESC;FMTTYPE=text/html: <p>Assistant Professor</p><p>Department of Ce
 ll Biology and Neuroscience</p><p>Rutgers University</p><p><em>"Using zebra
 fish to build and break the blood-brain barrier"</em></p>
CATEGORIES:All Events,Department of Developmental Biology Seminar Series
LOCATION:Needleman Library
GEO:38.634410;-90.262773
ORGANIZER;CN="Amy Kupcho":MAILTO:a.kupcho@wustl.edu
URL;VALUE=URI:https://developmentalbiology.wustl.edu/events/event/natasha-o
 brown-phd/
END:VEVENT
BEGIN:VTIMEZONE
TZID:America/Chicago
BEGIN:DAYLIGHT
TZOFFSETFROM:-0600
TZOFFSETTO:-0500
DTSTART:20260308T080000
TZNAME:CDT
END:DAYLIGHT
END:VTIMEZONE
END:VCALENDAR
