BEGIN:VCALENDAR
VERSION:2.0
PRODID:-//Developmental Biology//NONSGML Events//EN
CALSCALE:GREGORIAN
X-ORIGINAL-URL:https://developmentalbiology.wustl.edu/events/
X-WR-CALDESC:Developmental Biology - Events
BEGIN:VEVENT
UID:20220306T0851Z-1646556709.2229-EO-5294-1@172.23.128.19
STATUS:CONFIRMED
DTSTAMP:20260421T102542Z
CREATED:20220304T152719Z
LAST-MODIFIED:20220304T152719Z
DTSTART;TZID=America/Chicago:20220321T120000
DTEND;TZID=America/Chicago:20220321T130000
SUMMARY: Michelle Oyen\, PhD
DESCRIPTION: Hydrogel-based Biomaterials as Biomimetic Extracellular Matric
 es Associate Professor\, Engineering – Biomedical Engineering Washington Un
 iversity North Building\, Moore Auditorium This is a hybrid event. Please e
 mail kriebold@wustl.edu for zoom link
X-ALT-DESC;FMTTYPE=text/html: <p><em>Hydrogel-based Biomaterials as Biomime
 tic Extracellular Matrices</em></p><p>Associate Professor\, Engineering - B
 iomedical Engineering</p><p>Washington University</p><p>North Building\, Mo
 ore Auditorium</p><p>This is a hybrid event. Please email kriebold@wustl.ed
 u for zoom link</p>
CATEGORIES:All Events,Department of Developmental Biology Seminar Series
ORGANIZER;CN="Kati":MAILTO:kriebold@wustl.edu
URL;VALUE=URI:https://developmentalbiology.wustl.edu/events/event/michelle-
 oyen-phd/
END:VEVENT
BEGIN:VTIMEZONE
TZID:America/Chicago
BEGIN:DAYLIGHT
TZOFFSETFROM:-0600
TZOFFSETTO:-0500
DTSTART:20220313T080000
TZNAME:CDT
END:DAYLIGHT
END:VTIMEZONE
END:VCALENDAR
