BEGIN:VCALENDAR
VERSION:2.0
PRODID:-//Developmental Biology//NONSGML Events//EN
CALSCALE:GREGORIAN
X-ORIGINAL-URL:https://developmentalbiology.wustl.edu/events/
X-WR-CALDESC:Developmental Biology - Events
BEGIN:VEVENT
UID:20200921T2000Z-1600718458.2925-EO-3703-1@172.23.128.19
STATUS:CONFIRMED
DTSTAMP:20260421T225115Z
CREATED:20200903T184939Z
LAST-MODIFIED:20200903T184939Z
DTSTART;TZID=America/Chicago:20191202T120000
DTEND;TZID=America/Chicago:20191202T130000
SUMMARY: Michael Buszczak\, Ph.D.
DESCRIPTION: Associate Professor Department of Molecular Biology The Univer
 sity of Texas Southwestern Medical Center
X-ALT-DESC;FMTTYPE=text/html: <p><small class="subheader">Associate Profess
 or</small></p><p><span class="heading">Department</span> of <span class="de
 tail"> Molecular Biology </span></p><p>The University of Texas Southwestern
  Medical Center</p>
CATEGORIES:All Events
LOCATION:Needleman Library
GEO:38.634410;-90.262773
ORGANIZER;CN="Brian":MAILTO:bmarston@wustl.edu
URL;VALUE=URI:https://developmentalbiology.wustl.edu/events/event/michael-b
 uszczak-ph-d/
END:VEVENT
BEGIN:VTIMEZONE
TZID:America/Chicago
BEGIN:STANDARD
TZOFFSETFROM:-0500
TZOFFSETTO:-0600
DTSTART:20191103T070000
TZNAME:CST
END:STANDARD
END:VTIMEZONE
END:VCALENDAR
