BEGIN:VCALENDAR
VERSION:2.0
PRODID:-//Developmental Biology//NONSGML Events//EN
CALSCALE:GREGORIAN
X-ORIGINAL-URL:https://developmentalbiology.wustl.edu/events/
X-WR-CALDESC:Developmental Biology - Events
BEGIN:VEVENT
UID:20260224T2029Z-1771964961.7387-EO-8985-1@10.73.4.114
STATUS:CONFIRMED
DTSTAMP:20260416T121912Z
CREATED:20260224T193213Z
LAST-MODIFIED:20260304T224252Z
DTSTART;TZID=America/Chicago:20260601T120000
DTEND;TZID=America/Chicago:20260601T130000
SUMMARY: Mayssa Mokalled\, PhD
DESCRIPTION: Associate Professor Department of Developmental Biology Washin
 gton University School of Medicine   Hope Center Series  
X-ALT-DESC;FMTTYPE=text/html: <p>Associate Professor</p><p>Department of De
 velopmental Biology</p><p>Washington University School of Medicine</p><p> <
 /p><p>Hope Center Series</p><p> </p>
CATEGORIES:All Events,Department of Developmental Biology Seminar Series
LOCATION:Fort NRB Auditorium
GEO:38.635520;-90.254809
ORGANIZER;CN="Amy Kupcho":MAILTO:a.kupcho@wustl.edu
URL;VALUE=URI:https://developmentalbiology.wustl.edu/events/event/mayssa-mo
 kalled-phd/
END:VEVENT
BEGIN:VTIMEZONE
TZID:America/Chicago
BEGIN:DAYLIGHT
TZOFFSETFROM:-0600
TZOFFSETTO:-0500
DTSTART:20260308T080000
TZNAME:CDT
END:DAYLIGHT
END:VTIMEZONE
END:VCALENDAR
