BEGIN:VCALENDAR
VERSION:2.0
PRODID:-//Developmental Biology//NONSGML Events//EN
CALSCALE:GREGORIAN
X-ORIGINAL-URL:https://developmentalbiology.wustl.edu/events/
X-WR-CALDESC:Developmental Biology - Events
BEGIN:VEVENT
UID:20260224T2029Z-1771964961.6888-EO-8978-1@10.73.4.114
STATUS:CONFIRMED
DTSTAMP:20260416T121912Z
CREATED:20260224T184446Z
LAST-MODIFIED:20260224T192337Z
DTSTART;TZID=America/Chicago:20260406T120000
DTEND;TZID=America/Chicago:20260406T130000
SUMMARY: Matthieu Dos Santos\, PhD
DESCRIPTION: Assistant Instructor Department of Molecular Biology UT Southw
 estern Medical Center “From Sloth to Cheetah: Fast Muscle Formation and Atr
 ophy”
X-ALT-DESC;FMTTYPE=text/html: <p>Assistant Instructor</p><p>Department of M
 olecular Biology</p><p>UT Southwestern Medical Center</p><p><em>"From Sloth
  to Cheetah: Fast Muscle Formation and Atrophy"</em></p>
CATEGORIES:All Events,Department of Developmental Biology Seminar Series
LOCATION:Needleman Library
GEO:38.634410;-90.262773
ORGANIZER;CN="Amy Kupcho":MAILTO:a.kupcho@wustl.edu
URL;VALUE=URI:https://developmentalbiology.wustl.edu/events/event/matthieu-
 dos-santos-phd/
END:VEVENT
BEGIN:VTIMEZONE
TZID:America/Chicago
BEGIN:DAYLIGHT
TZOFFSETFROM:-0600
TZOFFSETTO:-0500
DTSTART:20260308T080000
TZNAME:CDT
END:DAYLIGHT
END:VTIMEZONE
END:VCALENDAR
