BEGIN:VCALENDAR
VERSION:2.0
PRODID:-//Developmental Biology//NONSGML Events//EN
CALSCALE:GREGORIAN
X-ORIGINAL-URL:https://developmentalbiology.wustl.edu/events/
X-WR-CALDESC:Developmental Biology - Events
BEGIN:VEVENT
UID:20200921T2000Z-1600718458.498-EO-3640-1@172.23.128.19
STATUS:CONFIRMED
DTSTAMP:20260422T163140Z
CREATED:20200903T184937Z
LAST-MODIFIED:20200908T193325Z
DTSTART;TZID=America/Chicago:20201214T120000
DTEND;TZID=America/Chicago:20201214T130000
SUMMARY: Mary Kay Lobo\, PhD
DESCRIPTION: Mary Kay Lobo\, PhD Professor\, Dept of Anatomy and Neurobiolo
 gy University of Maryland School of Medicine 12:00 pm via Zoom
X-ALT-DESC;FMTTYPE=text/html: <p>Mary Kay Lobo\, PhD</p><p>Professor\, Dept
  of Anatomy and Neurobiology</p><p>University of Maryland School of Medicin
 e</p><p>12:00 pm via Zoom</p>
CATEGORIES:All Events,Department of Developmental Biology Seminar Series
LOCATION:Remote / Zoom
GEO:0.000000;0.000000
ORGANIZER;CN="Brian":MAILTO:bmarston@wustl.edu
URL;VALUE=URI:https://developmentalbiology.wustl.edu/events/event/mary-kay-
 lobo-phd/
END:VEVENT
BEGIN:VTIMEZONE
TZID:America/Chicago
BEGIN:STANDARD
TZOFFSETFROM:-0500
TZOFFSETTO:-0600
DTSTART:20201101T070000
TZNAME:CST
END:STANDARD
END:VTIMEZONE
END:VCALENDAR
