BEGIN:VCALENDAR
VERSION:2.0
PRODID:-//Developmental Biology//NONSGML Events//EN
CALSCALE:GREGORIAN
X-ORIGINAL-URL:https://developmentalbiology.wustl.edu/events/
X-WR-CALDESC:Developmental Biology - Events
BEGIN:VEVENT
UID:20220727T1733Z-1658943238.0289-EO-5710-1@172.23.128.19
STATUS:CONFIRMED
DTSTAMP:20260416T121932Z
CREATED:20220726T205344Z
LAST-MODIFIED:20220726T205344Z
DTSTART;TZID=America/Chicago:20230329T120000
DTEND;TZID=America/Chicago:20230329T130000
SUMMARY: Marian Ros\, PhD
DESCRIPTION: Professor Instituto de Biomedicina y Biotecnología de Cantabri
 a 12:00 pm\, Needleman Library and Zoom Please email kriebold@wustl.edu for
  the zoom link
X-ALT-DESC;FMTTYPE=text/html: <p>Professor<br />Instituto de Biomedicina y 
 Biotecnología de Cantabria</p><p>12:00 pm\, Needleman Library and Zoom</p><
 p>Please email kriebold@wustl.edu for the zoom link</p>
CATEGORIES:All Events,Department of Developmental Biology Seminar Series
ORGANIZER;CN="Kati":MAILTO:kriebold@wustl.edu
URL;VALUE=URI:https://developmentalbiology.wustl.edu/events/event/marian-ro
 s-phd/
END:VEVENT
BEGIN:VTIMEZONE
TZID:America/Chicago
BEGIN:DAYLIGHT
TZOFFSETFROM:-0600
TZOFFSETTO:-0500
DTSTART:20230312T080000
TZNAME:CDT
END:DAYLIGHT
END:VTIMEZONE
END:VCALENDAR
