BEGIN:VCALENDAR
VERSION:2.0
PRODID:-//Developmental Biology//NONSGML Events//EN
CALSCALE:GREGORIAN
X-ORIGINAL-URL:https://developmentalbiology.wustl.edu/events/
X-WR-CALDESC:Developmental Biology - Events
BEGIN:VEVENT
UID:20200921T2000Z-1600718458.2998-EO-3702-1@172.23.128.19
STATUS:CONFIRMED
DTSTAMP:20260416T121947Z
CREATED:20200903T184939Z
LAST-MODIFIED:20200903T184939Z
DTSTART;TZID=America/Chicago:20191209T120000
DTEND;TZID=America/Chicago:20191209T130000
SUMMARY: Margaret M. McCarthy\, PhD
DESCRIPTION: James & Carolyn Frenkil Endowed Deanâs Professor\, Professor
  and Chair of the Department of Pharmacology University of Maryland School 
 of Medicine
X-ALT-DESC;FMTTYPE=text/html: <p>James & Carolyn Frenkil Endowed Deanâs P
 rofessor\, Professor and Chair of the Department of Pharmacology</p><p>Univ
 ersity of Maryland School of Medicine</p>
CATEGORIES:All Events
LOCATION:Needleman Library
GEO:38.634410;-90.262773
ORGANIZER;CN="Brian":MAILTO:bmarston@wustl.edu
URL;VALUE=URI:https://developmentalbiology.wustl.edu/events/event/margaret-
 m-mccarthy-phd/
END:VEVENT
BEGIN:VTIMEZONE
TZID:America/Chicago
BEGIN:STANDARD
TZOFFSETFROM:-0500
TZOFFSETTO:-0600
DTSTART:20191103T070000
TZNAME:CST
END:STANDARD
END:VTIMEZONE
END:VCALENDAR
