BEGIN:VCALENDAR
VERSION:2.0
PRODID:-//Developmental Biology//NONSGML Events//EN
CALSCALE:GREGORIAN
X-ORIGINAL-URL:https://developmentalbiology.wustl.edu/events/
X-WR-CALDESC:Developmental Biology - Events
BEGIN:VEVENT
UID:20220727T1733Z-1658943238.026-EO-5707-1@172.23.128.19
STATUS:CONFIRMED
DTSTAMP:20260416T121933Z
CREATED:20220726T205145Z
LAST-MODIFIED:20220726T205145Z
DTSTART;TZID=America/Chicago:20230320T120000
DTEND;TZID=America/Chicago:20230320T130000
SUMMARY: Leslie M. Thompson\, PhD
DESCRIPTION: Donald Bren and Chancellor’s Professor Psychiatry & Human Beha
 vior School of Medicine University of California\, Irvine 12:00 pm\, Needle
 man Library and Zoom Please email kriebold@wustl.edu for the zoom link
X-ALT-DESC;FMTTYPE=text/html: <p>Donald Bren and Chancellor's Professor</p>
 <p>Psychiatry & Human Behavior School of Medicine</p><p>University of Calif
 ornia\, Irvine</p><p>12:00 pm\, Needleman Library and Zoom</p><p>Please ema
 il kriebold@wustl.edu for the zoom link</p>
CATEGORIES:All Events,Department of Developmental Biology Seminar Series
ORGANIZER;CN="Kati":MAILTO:kriebold@wustl.edu
URL;VALUE=URI:https://developmentalbiology.wustl.edu/events/event/leslie-m-
 thompson-phd/
END:VEVENT
BEGIN:VTIMEZONE
TZID:America/Chicago
BEGIN:DAYLIGHT
TZOFFSETFROM:-0600
TZOFFSETTO:-0500
DTSTART:20230312T080000
TZNAME:CDT
END:DAYLIGHT
END:VTIMEZONE
END:VCALENDAR
