BEGIN:VCALENDAR
VERSION:2.0
PRODID:-//Developmental Biology//NONSGML Events//EN
CALSCALE:GREGORIAN
X-ORIGINAL-URL:https://developmentalbiology.wustl.edu/events/
X-WR-CALDESC:Developmental Biology - Events
BEGIN:VEVENT
UID:20210325T0304Z-1616641464.5097-EO-4633-1@172.23.128.19
STATUS:CONFIRMED
DTSTAMP:20260422T163139Z
CREATED:20210324T170104Z
LAST-MODIFIED:20210324T170104Z
DTSTART;TZID=America/Chicago:20210421T120000
DTEND;TZID=America/Chicago:20210421T130000
SUMMARY: Laura Fischer
X-ALT-DESC;FMTTYPE=text/html: 
CATEGORIES:All Events,RAD Research Forum Series
ORGANIZER;CN="Kati":MAILTO:kriebold@wustl.edu
URL;VALUE=URI:https://developmentalbiology.wustl.edu/events/event/laura-fis
 cher/
END:VEVENT
BEGIN:VTIMEZONE
TZID:America/Chicago
BEGIN:DAYLIGHT
TZOFFSETFROM:-0600
TZOFFSETTO:-0500
DTSTART:20210314T080000
TZNAME:CDT
END:DAYLIGHT
END:VTIMEZONE
END:VCALENDAR
