BEGIN:VCALENDAR
VERSION:2.0
PRODID:-//Developmental Biology//NONSGML Events//EN
CALSCALE:GREGORIAN
X-ORIGINAL-URL:https://developmentalbiology.wustl.edu/events/
X-WR-CALDESC:Developmental Biology - Events
BEGIN:VEVENT
UID:20210927T1924Z-1632770653.3525-EO-5035-1@172.23.128.19
STATUS:CONFIRMED
DTSTAMP:20260422T163134Z
CREATED:20210927T171037Z
LAST-MODIFIED:20210927T171616Z
DTSTART;TZID=America/Chicago:20211213T120000
DTEND;TZID=America/Chicago:20211213T130000
SUMMARY: Josien van Wolfswinkel\, Ph.D.
DESCRIPTION: Assistant Professor of Molecular\, Cellular & Developmental Bi
 ology Yale 12:00 pm\, Moore Auditorium Hybrid format. Please email kriebold
 @wustl.edu for zoom link
X-ALT-DESC;FMTTYPE=text/html: <p>Assistant Professor of Molecular\, Cellula
 r & Developmental Biology</p><p>Yale</p><p>12:00 pm\, Moore Auditorium</p><
 p>Hybrid format. Please email kriebold@wustl.edu for zoom link</p>
CATEGORIES:All Events,Department of Developmental Biology Seminar Series
ORGANIZER;CN="Kati":MAILTO:kriebold@wustl.edu
URL;VALUE=URI:https://developmentalbiology.wustl.edu/events/event/josien-va
 n-wolfswinkel-ph-d/
END:VEVENT
BEGIN:VTIMEZONE
TZID:America/Chicago
BEGIN:STANDARD
TZOFFSETFROM:-0500
TZOFFSETTO:-0600
DTSTART:20211107T070000
TZNAME:CST
END:STANDARD
END:VTIMEZONE
END:VCALENDAR
