BEGIN:VCALENDAR
VERSION:2.0
PRODID:-//Developmental Biology//NONSGML Events//EN
CALSCALE:GREGORIAN
X-ORIGINAL-URL:https://developmentalbiology.wustl.edu/events/
X-WR-CALDESC:Developmental Biology - Events
BEGIN:VEVENT
UID:20260224T2029Z-1771964961.6599-EO-8975-1@10.73.4.114
STATUS:CONFIRMED
DTSTAMP:20260422T163127Z
CREATED:20260224T173342Z
LAST-MODIFIED:20260225T193901Z
DTSTART;TZID=America/Chicago:20260316T120000
DTEND;TZID=America/Chicago:20260316T130000
SUMMARY: Hysell Oviedo\, PhD
DESCRIPTION: Roger M. Perlmutter Career Development Assistant Professor of 
 Biomedical Research Department of Neuroscience “Syncopated Development: Bui
 lding Left-Right Differences for Parallel Auditory Processing”
X-ALT-DESC;FMTTYPE=text/html: <p>Roger M. Perlmutter Career Development Ass
 istant Professor of Biomedical Research</p><p>Department of Neuroscience</p
 ><p><em>"Syncopated Development: Building Left-Right Differences for Parall
 el Auditory Processing"</em></p>
CATEGORIES:All Events,Department of Developmental Biology Seminar Series
LOCATION:Needleman Library
GEO:38.634410;-90.262773
ORGANIZER;CN="Amy Kupcho":MAILTO:a.kupcho@wustl.edu
URL;VALUE=URI:https://developmentalbiology.wustl.edu/events/event/hysell-ov
 iedo-phd/
END:VEVENT
BEGIN:VTIMEZONE
TZID:America/Chicago
BEGIN:DAYLIGHT
TZOFFSETFROM:-0600
TZOFFSETTO:-0500
DTSTART:20260308T080000
TZNAME:CDT
END:DAYLIGHT
END:VTIMEZONE
END:VCALENDAR
