BEGIN:VCALENDAR
VERSION:2.0
PRODID:-//Developmental Biology//NONSGML Events//EN
CALSCALE:GREGORIAN
X-ORIGINAL-URL:https://developmentalbiology.wustl.edu/events/
X-WR-CALDESC:Developmental Biology - Events
BEGIN:VEVENT
UID:20230413T2004Z-1681416299.1193-EO-6591-1@172.23.128.18
STATUS:CONFIRMED
DTSTAMP:20260416T121925Z
CREATED:20230413T142206Z
LAST-MODIFIED:20230425T134557Z
DTSTART;TZID=America/Chicago:20230515T120000
DTEND;TZID=America/Chicago:20230515T130000
SUMMARY: Hope Center/Neurology/Developmental Biology
DESCRIPTION: Timothy Miller\, Ph.D. WashU Neurology Mini-series: Gene Thera
 py and CNS disorders 12:00 pm\, Holden Auditorium and Zoom Please email sta
 cey.halbrook@wustl.edu for the zoom link
X-ALT-DESC;FMTTYPE=text/html: <p>Timothy Miller\, Ph.D.</p><p>WashU Neurolo
 gy</p><p>Mini-series: <a href="https://hopecenter.wustl.edu/education/monda
 y-noon-seminars/#series6">Gene Therapy and CNS disorders</a></p><p>12:00 pm
 \, Holden Auditorium and Zoom</p><p>Please email stacey.halbrook@wustl.edu 
 for the zoom link</p>
CATEGORIES:All Events,Department of Developmental Biology Seminar Series
ORGANIZER;CN="Stacey":MAILTO:stacey.halbrook@wustl.edu
URL;VALUE=URI:https://developmentalbiology.wustl.edu/events/event/hope-cent
 er-3/
END:VEVENT
BEGIN:VTIMEZONE
TZID:America/Chicago
BEGIN:DAYLIGHT
TZOFFSETFROM:-0600
TZOFFSETTO:-0500
DTSTART:20230312T080000
TZNAME:CDT
END:DAYLIGHT
END:VTIMEZONE
END:VCALENDAR
