BEGIN:VCALENDAR
VERSION:2.0
PRODID:-//Developmental Biology//NONSGML Events//EN
CALSCALE:GREGORIAN
X-ORIGINAL-URL:https://developmentalbiology.wustl.edu/events/
X-WR-CALDESC:Developmental Biology - Events
BEGIN:VEVENT
UID:20200921T2000Z-1600718458.3538-EO-3669-1@172.23.128.19
STATUS:CONFIRMED
DTSTAMP:20260422T163126Z
CREATED:20200903T184938Z
LAST-MODIFIED:20200903T184938Z
DTSTART;TZID=America/Chicago:20200224T120000
DTEND;TZID=America/Chicago:20200224T130000
SUMMARY: Dr. Tony Tsai
DESCRIPTION: Posdoc Harvard University âAn adhesion code ensures robust p
 attern formation during tissue morphogenesisâ
X-ALT-DESC;FMTTYPE=text/html: <p>Posdoc</p><p>Harvard University</p><p>âA
 n adhesion code ensures robust pattern formation during tissue morphogenesi
 sâ</p>
CATEGORIES:All Events
LOCATION:Needleman Library
GEO:38.634410;-90.262773
ORGANIZER;CN="Brian":MAILTO:bmarston@wustl.edu
URL;VALUE=URI:https://developmentalbiology.wustl.edu/events/event/dr-tony-t
 sai/
END:VEVENT
BEGIN:VTIMEZONE
TZID:America/Chicago
BEGIN:STANDARD
TZOFFSETFROM:-0500
TZOFFSETTO:-0600
DTSTART:20191103T070000
TZNAME:CST
END:STANDARD
END:VTIMEZONE
END:VCALENDAR
