BEGIN:VCALENDAR
VERSION:2.0
PRODID:-//Developmental Biology//NONSGML Events//EN
CALSCALE:GREGORIAN
X-ORIGINAL-URL:https://developmentalbiology.wustl.edu/events/
X-WR-CALDESC:Developmental Biology - Events
BEGIN:VEVENT
UID:20220106T0510Z-1641445801.5576-EO-5165-1@172.23.128.18
STATUS:CONFIRMED
DTSTAMP:20260416T121937Z
CREATED:20220104T131440Z
LAST-MODIFIED:20220131T120759Z
DTSTART;TZID=America/Chicago:20220131T120000
DTEND;TZID=America/Chicago:20220131T130000
SUMMARY: Dr. Jenn Kong
DESCRIPTION: “Mechanisms of morphogen sensitivity underlying a wide spectru
 m of birth defects” Postdoctoral Scholar Rohatgi Lab Stanford University 12
 :00 pm Zoom Please email kriebold@wustl.edu for zoom link
X-ALT-DESC;FMTTYPE=text/html: <p>“Mechanisms of morphogen sensitivity under
 lying a wide spectrum of birth defects”</p><p>Postdoctoral Scholar</p><p>Ro
 hatgi Lab</p><p>Stanford University</p><p>12:00 pm Zoom<br />Please email k
 riebold@wustl.edu for zoom link</p>
CATEGORIES:All Events,Department of Developmental Biology Seminar Series
ORGANIZER;CN="Kati":MAILTO:kriebold@wustl.edu
URL;VALUE=URI:https://developmentalbiology.wustl.edu/events/event/dr-jenn-k
 ong/
END:VEVENT
BEGIN:VTIMEZONE
TZID:America/Chicago
BEGIN:STANDARD
TZOFFSETFROM:-0500
TZOFFSETTO:-0600
DTSTART:20211107T070000
TZNAME:CST
END:STANDARD
END:VTIMEZONE
END:VCALENDAR
