BEGIN:VCALENDAR
VERSION:2.0
PRODID:-//Developmental Biology//NONSGML Events//EN
CALSCALE:GREGORIAN
X-ORIGINAL-URL:https://developmentalbiology.wustl.edu/events/
X-WR-CALDESC:Developmental Biology - Events
BEGIN:VEVENT
UID:20200921T2000Z-1600718458.464-EO-3649-1@172.23.128.19
STATUS:CONFIRMED
DTSTAMP:20260416T121946Z
CREATED:20200903T184938Z
LAST-MODIFIED:20200908T193328Z
DTSTART;TZID=America/Chicago:20201012T120000
DTEND;TZID=America/Chicago:20201012T130000
SUMMARY: Dr. Frank Schnorrer
DESCRIPTION:   Frank Schnorrer Senior group leader at the Institute for Dev
 elopmental Biology in Marseille Muscle Dynamics Group IBDM – Institut de Bi
 ologie du Développement de Marseille CNRS & Aix-Marseille Université Semina
 r via Zoom
X-ALT-DESC;FMTTYPE=text/html: <p> </p><p>Frank Schnorrer</p><p>Senior group
  leader at the Institute for Developmental Biology in Marseille<br />Muscle
  Dynamics Group<br />IBDM – Institut de Biologie du Développement de Marsei
 lle<br />CNRS & Aix-Marseille Université</p><p>Seminar via Zoom</p>
CATEGORIES:All Events,Department of Developmental Biology Seminar Series
LOCATION:Remote / Zoom
GEO:0.000000;0.000000
ORGANIZER;CN="Brian":MAILTO:bmarston@wustl.edu
URL;VALUE=URI:https://developmentalbiology.wustl.edu/events/event/dr-frank-
 schnorrer/
END:VEVENT
BEGIN:VTIMEZONE
TZID:America/Chicago
BEGIN:DAYLIGHT
TZOFFSETFROM:-0600
TZOFFSETTO:-0500
DTSTART:20200308T080000
TZNAME:CDT
END:DAYLIGHT
END:VTIMEZONE
END:VCALENDAR
