BEGIN:VCALENDAR
VERSION:2.0
PRODID:-//Developmental Biology//NONSGML Events//EN
CALSCALE:GREGORIAN
X-ORIGINAL-URL:https://developmentalbiology.wustl.edu/events/
X-WR-CALDESC:Developmental Biology - Events
BEGIN:VEVENT
UID:20220106T0808Z-1641456499.2265-EO-5174-1@172.23.128.19
STATUS:CONFIRMED
DTSTAMP:20260422T163148Z
CREATED:20220104T132356Z
LAST-MODIFIED:20220104T132356Z
DTSTART;TZID=America/Chicago:20220221T120000
DTEND;TZID=America/Chicago:20220221T130000
SUMMARY: Dr. Elizabeth Pollina
DESCRIPTION: “Neuronal activity-dependent DNA repair in plasticity and agin
 g” Post-doctoral fellow Greenberg lab Harvard Medical School 12:00 pm in Mo
 ore Auditorium and Zoom Please email kriebold@wustl.edu for zoom link
X-ALT-DESC;FMTTYPE=text/html: <p>“Neuronal activity-dependent DNA repair in
  plasticity and aging”</p><p><span style="font-family: Optima\;">Post-docto
 ral fellow<br /><span style="font-size: medium\;">Greenberg lab</span><br /
 >Harvard Medical School</span></p><p>12:00 pm in Moore Auditorium and Zoom<
 br />Please email kriebold@wustl.edu for zoom link</p>
CATEGORIES:All Events,Department of Developmental Biology Seminar Series
ORGANIZER;CN="Kati":MAILTO:kriebold@wustl.edu
URL;VALUE=URI:https://developmentalbiology.wustl.edu/events/event/dr-elizab
 eth-pollina/
END:VEVENT
BEGIN:VTIMEZONE
TZID:America/Chicago
BEGIN:STANDARD
TZOFFSETFROM:-0500
TZOFFSETTO:-0600
DTSTART:20211107T070000
TZNAME:CST
END:STANDARD
END:VTIMEZONE
END:VCALENDAR
