BEGIN:VCALENDAR
VERSION:2.0
PRODID:-//Developmental Biology//NONSGML Events//EN
CALSCALE:GREGORIAN
X-ORIGINAL-URL:https://developmentalbiology.wustl.edu/events/
X-WR-CALDESC:Developmental Biology - Events
BEGIN:VEVENT
UID:20241104T1615Z-1730736943.3653-EO-8102-1@10.24.106.144
STATUS:CONFIRMED
DTSTAMP:20260422T163147Z
CREATED:20241104T160313Z
LAST-MODIFIED:20250127T165421Z
DTSTART;TZID=America/Chicago:20250310T120000
DTEND;TZID=America/Chicago:20250310T130000
SUMMARY: Danelle Devenport\, PhD
DESCRIPTION: Shirley M. Tilghman Professor Department of Molecular Biology 
 Princeton University “Deconstructing and reconstructing planar cell polarit
 y”
X-ALT-DESC;FMTTYPE=text/html: <p>Shirley M. Tilghman Professor</p><p>Depart
 ment of Molecular Biology</p><p>Princeton University</p><p>"Deconstructing 
 and reconstructing planar cell polarity"</p>
CATEGORIES:All Events,Department of Developmental Biology Seminar Series
LOCATION:Needleman Library
GEO:38.634410;-90.262773
ORGANIZER;CN="Brittni":MAILTO:b.martin@wustl.edu
URL;VALUE=URI:https://developmentalbiology.wustl.edu/events/event/danelle-d
 evenport-phd/
END:VEVENT
BEGIN:VTIMEZONE
TZID:America/Chicago
BEGIN:DAYLIGHT
TZOFFSETFROM:-0600
TZOFFSETTO:-0500
DTSTART:20250309T080000
TZNAME:CDT
END:DAYLIGHT
END:VTIMEZONE
END:VCALENDAR
