BEGIN:VCALENDAR
VERSION:2.0
PRODID:-//Developmental Biology//NONSGML Events//EN
CALSCALE:GREGORIAN
X-ORIGINAL-URL:https://developmentalbiology.wustl.edu/events/
X-WR-CALDESC:Developmental Biology - Events
BEGIN:VEVENT
UID:20220120T0138Z-1642642713.0458-EO-5207-1@172.23.128.19
STATUS:CONFIRMED
DTSTAMP:20260416T121937Z
CREATED:20220119T123913Z
LAST-MODIFIED:20220119T123913Z
DTSTART;TZID=America/Chicago:20220223T120000
DTEND;TZID=America/Chicago:20220223T130000
SUMMARY: Benpeng Miao\, PhD.
DESCRIPTION: “Methamphetamine induced regional-specific transcriptomic and 
 epigenetic changes in rat brain” Postdoc Research Associate Ting Wang Lab 1
 2:00 pm in Holden Auditorium and Zoom Please email kriebold@wustl.edu for z
 oom link
X-ALT-DESC;FMTTYPE=text/html: <p>"Methamphetamine induced regional-specific
  transcriptomic and epigenetic changes in rat brain"</p><div class="WEFX" d
 ata-automation-id="workerProfileDetailsPanelSubtitleContainer"><div id="56$
 277939" class="wd-Text WAL2 WFL2 WBAB WIFX" dir="ltr" aria-readonly="true" 
 data-automation-id="textView" data-metadata-id="56$277939">Postdoc Research
  Associate</div></div><div class="WHEX">Ting Wang Lab</div><div></div><div>
 12:00 pm in Holden Auditorium and Zoom</div><div></div><div>Please email kr
 iebold@wustl.edu for zoom link</div>
CATEGORIES:All Events,RAD Research Forum Series
ORGANIZER;CN="Kati":MAILTO:kriebold@wustl.edu
URL;VALUE=URI:https://developmentalbiology.wustl.edu/events/event/benpeng-m
 iao-phd/
END:VEVENT
BEGIN:VTIMEZONE
TZID:America/Chicago
BEGIN:STANDARD
TZOFFSETFROM:-0500
TZOFFSETTO:-0600
DTSTART:20211107T070000
TZNAME:CST
END:STANDARD
END:VTIMEZONE
END:VCALENDAR
