BEGIN:VCALENDAR
VERSION:2.0
PRODID:-//Developmental Biology//NONSGML Events//EN
CALSCALE:GREGORIAN
X-ORIGINAL-URL:https://developmentalbiology.wustl.edu/events/
X-WR-CALDESC:Developmental Biology - Events
BEGIN:VEVENT
UID:20220727T1733Z-1658943237.9703-EO-5662-1@172.23.128.19
STATUS:CONFIRMED
DTSTAMP:20260422T163133Z
CREATED:20220726T193346Z
LAST-MODIFIED:20220726T193346Z
DTSTART;TZID=America/Chicago:20221128T120000
DTEND;TZID=America/Chicago:20221128T130000
SUMMARY: B. Duygu Özpolat\, Ph.D.
DESCRIPTION: Assistant Professor Department of Biology Washington Universit
 y in St. Louis 12:00 pm\, Needleman Library and Zoom Please email kriebold@
 wustl.edu for the zoom link
X-ALT-DESC;FMTTYPE=text/html: <p>Assistant Professor</p><p>Department of Bi
 ology<br />Washington University in St. Louis</p><p>12:00 pm\, Needleman Li
 brary and Zoom</p><p>Please email kriebold@wustl.edu for the zoom link</p>
CATEGORIES:All Events,Department of Developmental Biology Seminar Series
ORGANIZER;CN="Kati":MAILTO:kriebold@wustl.edu
URL;VALUE=URI:https://developmentalbiology.wustl.edu/events/event/b-duygu-o
 zpolat-ph-d/
END:VEVENT
BEGIN:VTIMEZONE
TZID:America/Chicago
BEGIN:STANDARD
TZOFFSETFROM:-0500
TZOFFSETTO:-0600
DTSTART:20221106T070000
TZNAME:CST
END:STANDARD
END:VTIMEZONE
END:VCALENDAR
