BEGIN:VCALENDAR
VERSION:2.0
PRODID:-//Developmental Biology//NONSGML Events//EN
CALSCALE:GREGORIAN
X-ORIGINAL-URL:https://developmentalbiology.wustl.edu/events/
X-WR-CALDESC:Developmental Biology - Events
BEGIN:VEVENT
UID:20210826T2029Z-1630009750.0843-EO-4939-1@172.23.128.19
STATUS:CONFIRMED
DTSTAMP:20260416T121940Z
CREATED:20210826T141758Z
LAST-MODIFIED:20210922T165425Z
DTSTART;TZID=America/Chicago:20211004T120000
DTEND;TZID=America/Chicago:20211004T130000
SUMMARY: Amber Stratman\, Ph.D.
DESCRIPTION: Assistant Professor Cell Biology and Physiology Washington Uni
 versity in St. Louis Title: TBD Moore Auditorium\, 12:00 pm This seminar wi
 ll by hybird format. Please email kriebold@wustl.edu for zoom link
X-ALT-DESC;FMTTYPE=text/html: <h3>Assistant Professor</h3><h3>Cell Biology 
 and Physiology</h3><p>Washington University in St. Louis</p><p>Title: TBD</
 p><p>Moore Auditorium\, 12:00 pm</p><p>This seminar will by hybird format. 
 Please email kriebold@wustl.edu for zoom link</p>
CATEGORIES:All Events,Department of Developmental Biology Seminar Series
ORGANIZER;CN="Kati":MAILTO:kriebold@wustl.edu
URL;VALUE=URI:https://developmentalbiology.wustl.edu/events/event/amber-str
 atman-ph-d/
END:VEVENT
BEGIN:VTIMEZONE
TZID:America/Chicago
BEGIN:DAYLIGHT
TZOFFSETFROM:-0600
TZOFFSETTO:-0500
DTSTART:20210314T080000
TZNAME:CDT
END:DAYLIGHT
END:VTIMEZONE
END:VCALENDAR
