BEGIN:VCALENDAR
VERSION:2.0
PRODID:-//Developmental Biology//NONSGML Events//EN
CALSCALE:GREGORIAN
X-ORIGINAL-URL:https://developmentalbiology.wustl.edu/events/
X-WR-CALDESC:Developmental Biology - Events
BEGIN:VEVENT
UID:20220120T0138Z-1642642713.0614-EO-5219-1@172.23.128.19
STATUS:CONFIRMED
DTSTAMP:20260422T163134Z
CREATED:20220119T130004Z
LAST-MODIFIED:20220119T130004Z
DTSTART;TZID=America/Chicago:20220413T120000
DTEND;TZID=America/Chicago:20220413T130000
SUMMARY: Alessandra DiMauro (Greg Longmore Lab)
DESCRIPTION: 12:00 pm in Holden Auditorium and Zoom Please email kriebold@w
 ustl.edu for zoom link
X-ALT-DESC;FMTTYPE=text/html: <p>12:00 pm in Holden Auditorium and Zoom</p>
 <p>Please email kriebold@wustl.edu for zoom link</p>
CATEGORIES:All Events,RAD Research Forum Series
ORGANIZER;CN="Kati":MAILTO:kriebold@wustl.edu
URL;VALUE=URI:https://developmentalbiology.wustl.edu/events/event/alessandr
 a-dimauro-greg-longmore-lab/
END:VEVENT
BEGIN:VTIMEZONE
TZID:America/Chicago
BEGIN:DAYLIGHT
TZOFFSETFROM:-0600
TZOFFSETTO:-0500
DTSTART:20220313T080000
TZNAME:CDT
END:DAYLIGHT
END:VTIMEZONE
END:VCALENDAR
