BEGIN:VCALENDAR
VERSION:2.0
PRODID:-//Developmental Biology//NONSGML Events//EN
CALSCALE:GREGORIAN
X-ORIGINAL-URL:https://developmentalbiology.wustl.edu/events/
X-WR-CALDESC:Developmental Biology - Events
BEGIN:VEVENT
UID:20200921T2000Z-1600718458.1399-EO-3717-1@172.23.128.19
STATUS:CONFIRMED
DTSTAMP:20260422T163142Z
CREATED:20200903T184939Z
LAST-MODIFIED:20200903T184939Z
DTSTART;TZID=America/Chicago:20190314T160000
DTEND;TZID=America/Chicago:20190314T170000
SUMMARY: 21st David M. Kipnis Lecture
DESCRIPTION: Virginia Man-Yee Lee\, Ph.D. John H. Ware 3rd Endowed Professo
 r in Alzheimerâs Research University of Pennsylvania Perelman School of M
 edicine
X-ALT-DESC;FMTTYPE=text/html: <p>Virginia Man-Yee Lee\, Ph.D.</p><p>John H.
  Ware 3rd Endowed Professor in Alzheimerâs Research<br />University of Pe
 nnsylvania Perelman School of Medicine</p>
CATEGORIES:All Events
LOCATION:Moore Auditorium
GEO:38.635193;-90.262646
ORGANIZER;CN="Brian":MAILTO:bmarston@wustl.edu
URL;VALUE=URI:https://developmentalbiology.wustl.edu/events/event/21st-davi
 d-m-kipnis-lecture/
END:VEVENT
BEGIN:VTIMEZONE
TZID:America/Chicago
BEGIN:DAYLIGHT
TZOFFSETFROM:-0600
TZOFFSETTO:-0500
DTSTART:20190310T080000
TZNAME:CDT
END:DAYLIGHT
END:VTIMEZONE
END:VCALENDAR
